BEGIN:VCALENDAR
VERSION:2.0
PRODID:-//Archers du Trégor - ECPv6.15.20//NONSGML v1.0//EN
CALSCALE:GREGORIAN
METHOD:PUBLISH
X-WR-CALNAME:Archers du Trégor
X-ORIGINAL-URL:https://archers-lannion-tregor.fr
X-WR-CALDESC:Évènements pour Archers du Trégor
REFRESH-INTERVAL;VALUE=DURATION:PT1H
X-Robots-Tag:noindex
X-PUBLISHED-TTL:PT1H
BEGIN:VTIMEZONE
TZID:Europe/Paris
BEGIN:DAYLIGHT
TZOFFSETFROM:+0100
TZOFFSETTO:+0200
TZNAME:CEST
DTSTART:20250330T010000
END:DAYLIGHT
BEGIN:STANDARD
TZOFFSETFROM:+0200
TZOFFSETTO:+0100
TZNAME:CET
DTSTART:20251026T010000
END:STANDARD
BEGIN:DAYLIGHT
TZOFFSETFROM:+0100
TZOFFSETTO:+0200
TZNAME:CEST
DTSTART:20260329T010000
END:DAYLIGHT
BEGIN:STANDARD
TZOFFSETFROM:+0200
TZOFFSETTO:+0100
TZNAME:CET
DTSTART:20261025T010000
END:STANDARD
BEGIN:DAYLIGHT
TZOFFSETFROM:+0100
TZOFFSETTO:+0200
TZNAME:CEST
DTSTART:20270328T010000
END:DAYLIGHT
BEGIN:STANDARD
TZOFFSETFROM:+0200
TZOFFSETTO:+0100
TZNAME:CET
DTSTART:20271031T010000
END:STANDARD
END:VTIMEZONE
BEGIN:VEVENT
DTSTART;TZID=Europe/Paris:20260423T180000
DTEND;TZID=Europe/Paris:20260423T200000
DTSTAMP:20260423T183453
CREATED:20260423T101502Z
LAST-MODIFIED:20260423T101615Z
UID:214833-1776967200-1776974400@archers-lannion-tregor.fr
SUMMARY:Reprise de l'entraînement adultes mercredi 29 avril
DESCRIPTION:L’entraînement adultes reprend le 29 avril au terrain de l’aéroport à partir de 18h00. \nA noter : en même temps le 29/4\, initiation pour les étudiants de l’IUT.
URL:https://archers-lannion-tregor.fr/event/reprise-de-lentrainement-adultes-mercredi-29-avril/
END:VEVENT
END:VCALENDAR