BEGIN:VCALENDAR
VERSION:2.0
PRODID:-//Archers du Trégor - ECPv6.15.20//NONSGML v1.0//EN
CALSCALE:GREGORIAN
METHOD:PUBLISH
X-WR-CALNAME:Archers du Trégor
X-ORIGINAL-URL:https://archers-lannion-tregor.fr
X-WR-CALDESC:Évènements pour Archers du Trégor
REFRESH-INTERVAL;VALUE=DURATION:PT1H
X-Robots-Tag:noindex
X-PUBLISHED-TTL:PT1H
BEGIN:VTIMEZONE
TZID:Europe/Paris
BEGIN:DAYLIGHT
TZOFFSETFROM:+0100
TZOFFSETTO:+0200
TZNAME:CEST
DTSTART:20250330T010000
END:DAYLIGHT
BEGIN:STANDARD
TZOFFSETFROM:+0200
TZOFFSETTO:+0100
TZNAME:CET
DTSTART:20251026T010000
END:STANDARD
BEGIN:DAYLIGHT
TZOFFSETFROM:+0100
TZOFFSETTO:+0200
TZNAME:CEST
DTSTART:20260329T010000
END:DAYLIGHT
BEGIN:STANDARD
TZOFFSETFROM:+0200
TZOFFSETTO:+0100
TZNAME:CET
DTSTART:20261025T010000
END:STANDARD
BEGIN:DAYLIGHT
TZOFFSETFROM:+0100
TZOFFSETTO:+0200
TZNAME:CEST
DTSTART:20270328T010000
END:DAYLIGHT
BEGIN:STANDARD
TZOFFSETFROM:+0200
TZOFFSETTO:+0100
TZNAME:CET
DTSTART:20271031T010000
END:STANDARD
END:VTIMEZONE
BEGIN:VEVENT
DTSTART;VALUE=DATE:20260620
DTEND;VALUE=DATE:20260621
DTSTAMP:20260423T235607
CREATED:20260423T100056Z
LAST-MODIFIED:20260423T100211Z
UID:214830-1781913600-1781999999@archers-lannion-tregor.fr
SUMMARY:Fête du club le  20 juin
DESCRIPTION:La fête de fin de saison aura lieu le samedi 20 juin au terrain de l’aéroport avec: \n\nporte ouverte et initiation pour la famille des adhérents\nbarbecue\nchallenge et/ou tir du roi (à préciser)\n\nRéservez la date
URL:https://archers-lannion-tregor.fr/event/fete-du-club-le-20-juin/
END:VEVENT
END:VCALENDAR